BEGIN:VCALENDAR
VERSION:2.0
PRODID:Celebração do Dia do Pai: Almoço em Família
X-WR-CALNAME:Celebração do Dia do Pai: Almoço em Família
X-WR-TIMEZONE:Europe/Lisbon
X-PUBLISHED-TTL:P1W
BEGIN:VTIMEZONE
TZID:Europe/Lisbon
X-LIC-LOCATION:Europe/Lisbon
END:VTIMEZONE
BEGIN:VEVENT
UID:69e8d87f3fa0c
DTSTART;VALUE=DATE:20260322
SEQUENCE:0
TRANSP:OPAQUE
DTEND;VALUE=DATE:20260323
SUMMARY:Celebração do Dia do Pai: Almoço em Família
CLASS:PUBLIC
DESCRIPTION:Celebração do Dia do Pai: Almoço em FamíliaPai é sinónimo
  de amor\, dedicação e momentos partilhados. Para celebrar esta data tã
 o especial\, convidamo-lo a reunir a família à mesa num almoço repleto 
 de sabor e alegria!• Quando: 22 de março (domingo)• Hora: 12h30• On
 de: Fórum de AtividadesEmenta Especial:• Creme de Legumes• Prato Prin
 cipal: Arroz de Pato à moda antiga.• Alternativa: Frango do campo assad
 o com batata assada e arroz.• Buffet de sobremesas.A animação musical 
 estará a cargo de Patrick Rego\, garantindo um ambiente festivo para toda
 s as gerações. Venha criar memórias connosco!Reserve já pelos números
  934835369\, 968857676 e 962889798
X-MICROSOFT-CDO-ALLDAYEVENT:TRUE
DTSTAMP:20260422T141735Z
END:VEVENT
END:VCALENDAR