BEGIN:VCALENDAR
VERSION:2.0
PRODID:XIV Noite de Fados
X-WR-CALNAME:XIV Noite de Fados
X-WR-TIMEZONE:Europe/Lisbon
X-PUBLISHED-TTL:P1W
BEGIN:VTIMEZONE
TZID:Europe/Lisbon
X-LIC-LOCATION:Europe/Lisbon
END:VTIMEZONE
BEGIN:VEVENT
UID:69e8d63e6dfab
DTSTART;VALUE=DATE:20260321
SEQUENCE:0
TRANSP:OPAQUE
DTEND;VALUE=DATE:20260322
SUMMARY:XIV Noite de Fados
CLASS:PUBLIC
DESCRIPTION:O Fado volta a ecoar em Santa Marta de Penaguião!A XIV Noite d
 e Fados é já no próximo sábado\, dia 21 de março\, às 21h30.Uma noit
 e dedicada à tradição\, à emoção e à alma do fado\, com a participa
 ção do Grupo de Fados “Terras de Penaguião” e de fadistas amadores.
  Vozes e guitarras juntas que prometem criar momentos únicos e inesquecí
 veis.Não perca !
X-MICROSOFT-CDO-ALLDAYEVENT:TRUE
DTSTAMP:20260422T140758Z
END:VEVENT
END:VCALENDAR