BEGIN:VCALENDAR
VERSION:2.0
PRODID:CIRCO DRAGON
X-WR-CALNAME:CIRCO DRAGON
X-WR-TIMEZONE:Europe/Lisbon
X-PUBLISHED-TTL:P1W
BEGIN:VTIMEZONE
TZID:Europe/Lisbon
X-LIC-LOCATION:Europe/Lisbon
END:VTIMEZONE
BEGIN:VEVENT
UID:69e8db28308bc
DTSTART;VALUE=DATE:20260320
SEQUENCE:0
TRANSP:OPAQUE
DTEND;VALUE=DATE:20260321
SUMMARY:CIRCO DRAGON
CLASS:PUBLIC
DESCRIPTION:O CIRCO DRAGON !!! Encontra-se pela primeira vez em SANTA MARTA
  DE PENAGUIÃO!! Venha assistir a um espetáculo único para toda a famíl
 ia&nbsp\;Instalado junto ao Estádio Municipal&nbsp\;&nbsp\;DE 20 DE MARÇ
 O A 22 DE MARÇO&nbsp\;A realizar vários espetáculos.Sexta-Feira às 21H
 30&nbsp\;&nbsp\;Sábado às 16H00&nbsp\;&nbsp\;Domingo às 16H00&nbsp\;
X-MICROSOFT-CDO-ALLDAYEVENT:TRUE
DTSTAMP:20260422T142856Z
END:VEVENT
END:VCALENDAR